BEGIN:VCALENDAR
VERSION:2.0
PRODID:SchoolNow
CALSCALE:GREGORIAN
BEGIN:VEVENT
UID:2543dcdc-3f29-11f1-ae7b-02dc31e1ac9f
DTSTAMP:20260423T152857Z
SUMMARY:The Lost Sierra Versatility Ranch Horse Show
LOCATION:Plumas Sierra County Fairgrounds
URL;VALUE=URI:https://www.frc.edu/studentlife/calendar/9013404/the-lost-sie
 rra-versatility-ranch-horse-show
DTSTART:20260502T150000Z
DTEND:20260503T000000Z
END:VEVENT
END:VCALENDAR
