BEGIN:VCALENDAR
VERSION:2.0
PRODID:SchoolNow
CALSCALE:GREGORIAN
BEGIN:VEVENT
UID:3ebd1cb0-3e97-11f1-9657-02f090158227
DTSTAMP:20260422T220433Z
SUMMARY:Student Art Exhibition
LOCATION:Downtown Quincy
URL;VALUE=URI:https://www.frc.edu/studentlife/calendar/9012271/student-art-
 exhibition
DTSTART:20260502T000000Z
DTEND:20260511T020000Z
END:VEVENT
END:VCALENDAR
