BEGIN:VCALENDAR
VERSION:2.0
PRODID:SchoolNow
CALSCALE:GREGORIAN
BEGIN:VEVENT
UID:55c4f6ac-3e66-11f1-8d40-0a58a9feac02
DTSTAMP:20260422T161427Z
SUMMARY:Party & Game Night w/ ASFRC
LOCATION:Student Lounge
URL;VALUE=URI:https://www.frc.edu/studentlife/calendar/9011684/party-game-n
 ight-w-asfrc
DTSTART:20260424T010000Z
DTEND:20260424T040000Z
END:VEVENT
END:VCALENDAR
