BEGIN:VCALENDAR
VERSION:2.0
PRODID:SchoolNow
CALSCALE:GREGORIAN
BEGIN:VEVENT
UID:dbdbf0da-3dce-11f1-aa6f-0a58a9feac02
DTSTAMP:20260421T221008Z
SUMMARY:Legally Blonde
LOCATION:West End Theater
URL;VALUE=URI:https://www.frc.edu/studentlife/calendar/9010220/legally-blon
 de-clone
DTSTART:20260507T182200Z
DTEND:20260517T192200Z
END:VEVENT
END:VCALENDAR
