BEGIN:VCALENDAR
VERSION:2.0
PRODID:SchoolNow
CALSCALE:GREGORIAN
BEGIN:VEVENT
UID:d3312d16-3daf-11f1-ac9f-0a58a9feac02
DTSTAMP:20260421T221237Z
SUMMARY:Legally Blonde (FRC Night)
LOCATION:West End Theater
URL;VALUE=URI:https://www.frc.edu/studentlife/calendar/9009657/legally-blon
 de
DTSTART:20260507T003000Z
DTEND:20260517T033000Z
END:VEVENT
END:VCALENDAR
