BEGIN:VCALENDAR
VERSION:2.0
PRODID:SchoolNow
CALSCALE:GREGORIAN
BEGIN:VEVENT
UID:9314b1a4-3cd7-11f1-9b35-0a58a9feac02
DTSTAMP:20260420T164000Z
SUMMARY:Downtown Chalk Art Festival
LOCATION:Main Street\, in downtown Quincy
URL;VALUE=URI:https://www.frc.edu/studentlife/calendar/9007457/downtown-cha
 lk-art-festival
DTSTART:20260509T180000Z
DTEND:20260509T220000Z
ATTACH;FILENAME=Chalk Art Festival Final.png;FMTTYPE=image/png:https://camp
 ussuite-storage.s3.amazonaws.com/prod/1558523/0672826e-a84b-11e7-9779-0ae3
 e1d9783c/3064077/b2f8bca0-fae1-11f0-ab17-0a58a9feac02/file/Chalk Art Festi
 val Final.png
END:VEVENT
END:VCALENDAR
