BEGIN:VCALENDAR
VERSION:2.0
PRODID:SchoolNow
CALSCALE:GREGORIAN
BEGIN:VEVENT
UID:f6a3ec06-39b9-11f1-be13-0a58a9feac02
DTSTAMP:20260416T173029Z
SUMMARY:Student Research Symposium
LOCATION:FRC Campus
URL;VALUE=URI:https://www.frc.edu/studentlife/calendar/8998244/student-rese
 arch-symposium
DTSTART:20260511T190000Z
DTEND:20260512T000000Z
END:VEVENT
END:VCALENDAR
