BEGIN:VCALENDAR
VERSION:2.0
PRODID:SchoolNow
CALSCALE:GREGORIAN
BEGIN:VEVENT
UID:89f2547c-2edc-11f1-952f-023ae6981999
DTSTAMP:20260414T203953Z
SUMMARY:FREE Community Film & Event
LOCATION:Town Hall Theater
URL;VALUE=URI:https://www.frc.edu/studentlife/calendar/8966776/free-communi
 ty-film-event
DTSTART:20260424T013000Z
DTEND:20260424T033000Z
END:VEVENT
END:VCALENDAR
