BEGIN:VCALENDAR
VERSION:2.0
PRODID:SchoolNow
CALSCALE:GREGORIAN
BEGIN:VEVENT
UID:4862a642-2edc-11f1-bc81-0a58a9feac02
DTSTAMP:20260402T213826Z
SUMMARY:Earth Day: Dellinger's Pond Work Party
LOCATION:Dellinger's Pond
URL;VALUE=URI:https://www.frc.edu/studentlife/calendar/8966775/earth-day-de
 llingers-pond-work-party
DTSTART:20260422T230000Z
DTEND:20260423T010000Z
END:VEVENT
END:VCALENDAR
