BEGIN:VCALENDAR
VERSION:2.0
PRODID:SchoolNow
CALSCALE:GREGORIAN
BEGIN:VEVENT
UID:3d8c1064-2edc-11f1-a822-0afff9befcc5
DTSTAMP:20260402T213808Z
SUMMARY:Fried Rice - Meal Kit Grab Bag with Basic Needs
LOCATION:Student Wellness and Success Center
URL;VALUE=URI:https://www.frc.edu/studentlife/calendar/8966774/overnight-oa
 ts-meal-kit-grab-bag-with-basic-needs-clone-clone
DTSTART:20260430T170000Z
DTEND:20260430T200000Z
END:VEVENT
END:VCALENDAR
