BEGIN:VCALENDAR
VERSION:2.0
PRODID:SchoolNow
CALSCALE:GREGORIAN
BEGIN:VEVENT
UID:c64bded0-2edb-11f1-99be-0afff900871d
DTSTAMP:20260402T213448Z
SUMMARY:FRC Campus Trash Pick-up Contest
LOCATION:Perch
URL;VALUE=URI:https://www.frc.edu/studentlife/calendar/8966773/frc-campus-t
 rash-pick-up-contest
DTSTART:20260421T190000Z
DTEND:20260421T200000Z
END:VEVENT
END:VCALENDAR
