BEGIN:VCALENDAR
VERSION:2.0
PRODID:SchoolNow
CALSCALE:GREGORIAN
BEGIN:VEVENT
UID:35b02a7c-27cc-11f1-9a5d-0a58a9feac02
DTSTAMP:20260401T225623Z
SUMMARY:Egg Painting w/ TALON
LOCATION:LRC 850
URL;VALUE=URI:https://www.frc.edu/studentlife/calendar/8943047/egg-painting
 -w-talon
DTSTART:20260402T193000Z
DTEND:20260402T210000Z
END:VEVENT
END:VCALENDAR
