BEGIN:VCALENDAR
VERSION:2.0
PRODID:SchoolNow
CALSCALE:GREGORIAN
BEGIN:VEVENT
UID:eea17656-1f22-11f1-a5d4-0a58a9feac02
DTSTAMP:20260415T215958Z
SUMMARY:2026-2027 Finish Line Application Closing Soon
URL;VALUE=URI:https://www.frc.edu/studentlife/calendar/8916126/2026-2027-fi
 nish-line-application-opens-today
DTSTART;VALUE=DATE:20260415
DTEND;VALUE=DATE:20260417
END:VEVENT
END:VCALENDAR
