BEGIN:VCALENDAR
VERSION:2.0
PRODID:SchoolNow
CALSCALE:GREGORIAN
BEGIN:VEVENT
UID:88ca67ba-1e42-11f1-9607-027c42f35a8d
DTSTAMP:20260312T183733Z
SUMMARY:Free Lunch w/ Fall Registration Appointment
LOCATION:The Perch
URL;VALUE=URI:https://www.frc.edu/studentlife/calendar/8912980/free-lunch-w
 -fall-registration-appointment
DTSTART:20260319T180000Z
DTEND:20260319T200000Z
ATTACH;FILENAME=Registrartion for Lunch 2026 (1).png;FMTTYPE=image/png:http
 s://campussuite-storage.s3.amazonaws.com/prod/1558523/0672826e-a84b-11e7-9
 779-0ae3e1d9783c/3079353/e059aece-1e41-11f1-9189-0affe797ffeb/file/Registr
 artion for Lunch 2026 (1).png
END:VEVENT
END:VCALENDAR
