BEGIN:VCALENDAR
VERSION:2.0
PRODID:SchoolNow
CALSCALE:GREGORIAN
BEGIN:VEVENT
UID:954d6eb6-1e41-11f1-b56e-02a5c0111cb7
DTSTAMP:20260312T183045Z
SUMMARY:Free St. Patrick's Day Lunch
LOCATION:The Perch
URL;VALUE=URI:https://www.frc.edu/studentlife/calendar/8912979/free-st-patr
 icks-day-lunch
DTSTART:20260317T180000Z
DTEND:20260317T200000Z
END:VEVENT
END:VCALENDAR
