BEGIN:VCALENDAR
VERSION:2.0
PRODID:SchoolNow
CALSCALE:GREGORIAN
BEGIN:VEVENT
UID:c5b2c854-1e36-11f1-adb6-0ef4ac4cd88d
DTSTAMP:20260312T171321Z
SUMMARY:Skate Night: Punk Night
LOCATION:Plumas-Sierra County Fairgrounds
URL;VALUE=URI:https://www.frc.edu/studentlife/calendar/8912969/skate-night-
 punk-night
DTSTART:20260315T030000Z
DTEND:20260315T060000Z
END:VEVENT
END:VCALENDAR
