BEGIN:VCALENDAR
VERSION:2.0
PRODID:SchoolNow
CALSCALE:GREGORIAN
BEGIN:VEVENT
UID:ddf02462-1e30-11f1-a236-0affc9cc228b
DTSTAMP:20260324T221203Z
SUMMARY:In Demand Careers: Exploring Allied Healthcare Pathways
LOCATION:Science Classroom 1002
URL;VALUE=URI:https://www.frc.edu/studentlife/calendar/8912965/in-demand-ca
 reers-exploring-allied-healthcare-pathways
DTSTART:20260326T000000Z
DTEND:20260326T020000Z
END:VEVENT
END:VCALENDAR
