BEGIN:VCALENDAR
VERSION:2.0
PRODID:SchoolNow
CALSCALE:GREGORIAN
BEGIN:VEVENT
UID:5e513ef0-1988-11f1-9bd1-0a58a9feac02
DTSTAMP:20260306T184840Z
SUMMARY:March Madness Bracket Kickoff Party
LOCATION:Student Lounge
URL;VALUE=URI:https://www.frc.edu/studentlife/calendar/8896924/march-madnes
 s-bracket-kickoff-party
DTSTART:20260319T000000Z
DTEND:20260319T030000Z
END:VEVENT
END:VCALENDAR
