BEGIN:VCALENDAR
VERSION:2.0
PRODID:SchoolNow
CALSCALE:GREGORIAN
BEGIN:VEVENT
UID:4a83beb6-1979-11f1-821c-0a58a9feac02
DTSTAMP:20260306T162655Z
SUMMARY:Pi Day - Pie Toss & Fundraiser
LOCATION:The Perch
URL;VALUE=URI:https://www.frc.edu/studentlife/calendar/8896291/pi-day-pie-t
 oss-fundraiser
DTSTART:20260312T190000Z
DTEND:20260312T200000Z
ATTACH;FILENAME=Pie Day Poster.jpg;FMTTYPE=image/jpeg:https://campussuite-s
 torage.s3.amazonaws.com/prod/1558523/0672826e-a84b-11e7-9779-0ae3e1d9783c/
 3077594/2dccc434-1979-11f1-8b7e-0a58a9feac02/file/Pie Day Poster.jpg
END:VEVENT
END:VCALENDAR
