BEGIN:VCALENDAR
VERSION:2.0
PRODID:SchoolNow
CALSCALE:GREGORIAN
BEGIN:VEVENT
UID:53477e26-1824-11f1-a555-0a58a9feac02
DTSTAMP:20260331T225548Z
SUMMARY:Fly Fishing Film Tour Screening
LOCATION:Town Hall Theater
URL;VALUE=URI:https://www.frc.edu/studentlife/calendar/8891729/fly-fishing-
 film-tour-screening
DTSTART:20260402T020000Z
DTEND:20260402T040000Z
END:VEVENT
END:VCALENDAR
