BEGIN:VCALENDAR
VERSION:2.0
PRODID:SchoolNow
CALSCALE:GREGORIAN
BEGIN:VEVENT
UID:e04633c0-0cfe-11f1-bd9b-029de128f86f
DTSTAMP:20260224T194223Z
SUMMARY:LinkedIn Workshop - Building Your Professional Presence
LOCATION:Learning Center (LRC 852)
URL;VALUE=URI:https://www.frc.edu/studentlife/calendar/8859450/linkedin-wor
 kshop-building-your-professional-presence
DTSTART:20260226T000000Z
DTEND:20260226T011500Z
END:VEVENT
END:VCALENDAR
