BEGIN:VCALENDAR
VERSION:2.0
PRODID:SchoolNow
CALSCALE:GREGORIAN
BEGIN:VEVENT
UID:70a722f0-0cf3-11f1-96e4-0a58a9feac02
DTSTAMP:20260218T180005Z
SUMMARY:Got Eggs? CalFresh Outreach Week
LOCATION:Student Wellness and Success Center
URL;VALUE=URI:https://www.frc.edu/studentlife/calendar/8859102/got-eggs-cal
 fresh-outreach-week
DTSTART:20260225T180000Z
DTEND:20260225T190000Z
END:VEVENT
END:VCALENDAR
