BEGIN:VCALENDAR
VERSION:2.0
PRODID:SchoolNow
CALSCALE:GREGORIAN
BEGIN:VEVENT
UID:5a81ec34-086c-11f1-a483-0a58a9feac02
DTSTAMP:20260212T234129Z
SUMMARY:Read Across America: Get Lunch & Get Lit(erature)
LOCATION:The Perch
URL;VALUE=URI:https://www.frc.edu/studentlife/calendar/8854625/read-across-
 america-get-lunch-get-lit-erature
DTSTART:20260226T190000Z
DTEND:20260226T210000Z
ATTACH;FILENAME=Read Across America Day (1).png;FMTTYPE=image/png:https://c
 ampussuite-storage.s3.amazonaws.com/prod/1558523/0672826e-a84b-11e7-9779-0
 ae3e1d9783c/3070396/49bd85e8-086c-11f1-9a0a-0a58a9feac02/file/Read Across 
 America Day (1).png
END:VEVENT
END:VCALENDAR
