BEGIN:VCALENDAR
VERSION:2.0
PRODID:SchoolNow
CALSCALE:GREGORIAN
BEGIN:VEVENT
UID:c646c18c-06ba-11f1-9110-0affd1487523
DTSTAMP:20260224T000938Z
SUMMARY:BSU Community Celebration (rescheduled)
LOCATION:Student Lounge
URL;VALUE=URI:https://www.frc.edu/studentlife/calendar/8852308/bsu-dinner-m
 ovie
DTSTART:20260225T010000Z
DTEND:20260225T040000Z
END:VEVENT
END:VCALENDAR
