BEGIN:VCALENDAR
VERSION:2.0
PRODID:SchoolNow
CALSCALE:GREGORIAN
BEGIN:VEVENT
UID:42a944b4-98cc-11f0-b1d3-0a58a9feac02
DTSTAMP:20250923T225006Z
SUMMARY:Bowling & Line Dancing
LOCATION:Sierra Bella Lanes
URL;VALUE=URI:https://www.frc.edu/studentlife/calendar/8657916/bowling-line
 -dancing
DTSTART:20251003T003000Z
DTEND:20251003T023000Z
END:VEVENT
END:VCALENDAR
