BEGIN:VCALENDAR
VERSION:2.0
PRODID:SchoolNow
CALSCALE:GREGORIAN
BEGIN:VEVENT
UID:db4c1326-8437-11f0-91be-0a58a9feac02
DTSTAMP:20250828T175308Z
SUMMARY:Student Environmental Association - First Meeting
LOCATION:The Perch
URL;VALUE=URI:https://www.frc.edu/studentlife/calendar/8554307/student-envi
 ronmental-association-first-meeting
DTSTART:20250829T170000Z
DTEND:20250829T180000Z
END:VEVENT
END:VCALENDAR
