BEGIN:VCALENDAR
VERSION:2.0
PRODID:SchoolNow
CALSCALE:GREGORIAN
BEGIN:VEVENT
UID:45615488-7a01-11f0-8223-025850da6195
DTSTAMP:20250815T175712Z
SUMMARY:TALON Club First Meeting
LOCATION:The Perch
URL;VALUE=URI:https://www.frc.edu/studentlife/calendar/8511035/talon-club-f
 irst-meeting
DTSTART:20250821T191500Z
DTEND:20250821T200000Z
END:VEVENT
END:VCALENDAR
