BEGIN:VCALENDAR
VERSION:2.0
PRODID:SchoolNow
CALSCALE:GREGORIAN
BEGIN:VEVENT
UID:8e837516-7898-11f0-9b16-0a58a9feac02
DTSTAMP:20250822T162227Z
SUMMARY:Line Dancing
LOCATION:Basketball Courts by Ag/Equine Center
URL;VALUE=URI:https://www.frc.edu/studentlife/calendar/8506191/line-dancing
DTSTART:20250829T003000Z
DTEND:20250829T020000Z
END:VEVENT
END:VCALENDAR
