BEGIN:VCALENDAR
VERSION:2.0
PRODID:SchoolNow
CALSCALE:GREGORIAN
BEGIN:VEVENT
UID:aea45bd0-7316-11f0-9293-0affeaa60e11
DTSTAMP:20250806T224440Z
SUMMARY:Free Movie Nights @ Town Hall Theater
LOCATION:Town Hall Theater
URL;VALUE=URI:https://www.frc.edu/studentlife/calendar/8477311/free-movie-t
 own-hall-theater
DTSTART:20250816T020000Z
DTEND:20250818T030000Z
END:VEVENT
END:VCALENDAR
