BEGIN:VCALENDAR
VERSION:2.0
PRODID:SchoolNow
CALSCALE:GREGORIAN
BEGIN:VEVENT
UID:2e3c668e-6729-11f0-ab61-0a58a9feac02
DTSTAMP:20250722T182501Z
SUMMARY:Day on the River
LOCATION:ORL/Art parking lot
URL;VALUE=URI:https://www.frc.edu/studentlife/calendar/8437312/day-on-the-r
 iver
DTSTART:20250827T210000Z
DTEND:20250827T230000Z
END:VEVENT
END:VCALENDAR
