BEGIN:VCALENDAR
VERSION:2.0
PRODID:SchoolNow
CALSCALE:GREGORIAN
BEGIN:VEVENT
UID:955c7e9a-6728-11f0-827c-0a58a9feac02
DTSTAMP:20250819T215453Z
SUMMARY:Free Movie Nights @ Town Hall Theater
LOCATION:Town Hall Theater (Downtown Quincy)
URL;VALUE=URI:https://www.frc.edu/studentlife/calendar/8437308/free-movie-n
 ights-town-hall-theater
DTSTART:20250823T020000Z
DTEND:20250825T040000Z
END:VEVENT
END:VCALENDAR
