BEGIN:VCALENDAR
VERSION:2.0
PRODID:SchoolNow
CALSCALE:GREGORIAN
BEGIN:VEVENT
UID:ef616b7c-6727-11f0-8937-0a58a9feac02
DTSTAMP:20250722T181606Z
SUMMARY:Welcome Back Pool Party
LOCATION:Pioneer Park (East Quincy)
URL;VALUE=URI:https://www.frc.edu/studentlife/calendar/8437307/welcome-back
 -pool-party
DTSTART:20250822T000000Z
DTEND:20250822T020000Z
END:VEVENT
END:VCALENDAR
