BEGIN:VCALENDAR
VERSION:2.0
PRODID:SchoolNow
CALSCALE:GREGORIAN
BEGIN:VEVENT
UID:1fb33702-6727-11f0-b016-0affde7380f1
DTSTAMP:20250722T181018Z
SUMMARY:Coffee & Pastries for Students
LOCATION:The Perch
URL;VALUE=URI:https://www.frc.edu/studentlife/calendar/8437302/coffee-pastr
 ies-for-students
DTSTART:20250819T153000Z
DTEND:20250819T173000Z
END:VEVENT
END:VCALENDAR
