BEGIN:VCALENDAR
VERSION:2.0
PRODID:SchoolNow
CALSCALE:GREGORIAN
BEGIN:VEVENT
UID:04b36c42-6727-11f0-8671-0affde7380f1
DTSTAMP:20250722T180932Z
SUMMARY:Coffee & Pastries for Students
LOCATION:The Perch
URL;VALUE=URI:https://www.frc.edu/studentlife/calendar/8437300/coffee-pastr
 ies-for-students
DTSTART:20250818T153000Z
DTEND:20250818T173000Z
END:VEVENT
END:VCALENDAR
