BEGIN:VCALENDAR
VERSION:2.0
PRODID:SchoolNow
CALSCALE:GREGORIAN
BEGIN:VEVENT
UID:e2a6f9d2-62a5-11f0-8e27-0a58a9feac02
DTSTAMP:20250806T224359Z
SUMMARY:Free Movie Nights @ Town Hall Theater
LOCATION:Town Hall Theater
URL;VALUE=URI:https://www.frc.edu/studentlife/calendar/8421939/free-movie-t
 own-hall-theater
DTSTART:20250809T020000Z
DTEND:20250811T020000Z
END:VEVENT
END:VCALENDAR
