BEGIN:VCALENDAR
VERSION:2.0
PRODID:SchoolNow
CALSCALE:GREGORIAN
BEGIN:VEVENT
UID:9802bba6-6268-11f0-b2d9-0a58a9feac02
DTSTAMP:20250814T231047Z
SUMMARY:Welcome Dinner & Games
LOCATION:Picnic Area (near Equine & outdoor basketball courts)
URL;VALUE=URI:https://www.frc.edu/studentlife/calendar/8420665/welcome-dinn
 er-for-new-students
DTSTART:20250816T000000Z
DTEND:20250816T020000Z
END:VEVENT
END:VCALENDAR
