BEGIN:VCALENDAR
VERSION:2.0
PRODID:SchoolNow
CALSCALE:GREGORIAN
BEGIN:VEVENT
UID:08277f32-09ab-11f0-ad81-0afffb8f22fb
DTSTAMP:20250325T185742Z
SUMMARY:PTK Honor Society Informational Meeting
URL;VALUE=URI:https://www.frc.edu/studentlife/calendar/7771188/ptk-honnor-s
 ociety-informational-meeting
DTSTART:20250326T190000Z
DTEND:20250326T200000Z
END:VEVENT
END:VCALENDAR
