BEGIN:VCALENDAR
VERSION:2.0
PRODID:SchoolNow
CALSCALE:GREGORIAN
BEGIN:VEVENT
UID:c16c9340-098a-11f0-9323-0e5391b533f3
DTSTAMP:20250325T150640Z
SUMMARY:PTK Workshop & Info Session
LOCATION:TRIO Office
URL;VALUE=URI:https://www.frc.edu/studentlife/calendar/7769265/ptk-workshop
 -info-session
DTSTART:20250326T190000Z
DTEND:20250326T200000Z
END:VEVENT
END:VCALENDAR
