BEGIN:VCALENDAR
VERSION:2.0
PRODID:SchoolNow
CALSCALE:GREGORIAN
BEGIN:VEVENT
UID:9a113bf6-fe9b-11ef-98bd-0a58a9feac02
DTSTAMP:20250311T171421Z
SUMMARY:University of Nevada\, Reno Tour
URL;VALUE=URI:https://www.frc.edu/studentlife/calendar/7658987/univeristy-o
 f-nevada-reno-tour
DTSTART:20250318T150000Z
DTEND:20250319T000000Z
ATTACH;FILENAME=Tour UNR3.18.25.pdf;FMTTYPE=application/pdf:https://campuss
 uite-storage.s3.amazonaws.com/prod/1558523/0672826e-a84b-11e7-9779-0ae3e1d
 9783c/2925470/82c7c852-fe9b-11ef-aaac-0ea5fc7b26ad/file/Tour UNR3.18.25.pd
 f
END:VEVENT
END:VCALENDAR
