BEGIN:VCALENDAR
VERSION:2.0
PRODID:SchoolNow
CALSCALE:GREGORIAN
BEGIN:VEVENT
UID:636d62bc-fdd5-11ef-aba6-0ed99cb1a21f
DTSTAMP:20250310T173040Z
SUMMARY:Bagel Bar with Basic Needs
LOCATION:Student Wellness and Success Center
URL;VALUE=URI:https://www.frc.edu/studentlife/calendar/7650803/bagel-bar-wi
 th-basic-needs
DTSTART:20250326T170000Z
DTEND:20250326T180000Z
END:VEVENT
END:VCALENDAR
