BEGIN:VCALENDAR
VERSION:2.0
PRODID:SchoolNow
CALSCALE:GREGORIAN
BEGIN:VEVENT
UID:c6cf4f8c-f9e3-11ef-99b1-0a58a9feac02
DTSTAMP:20250305T170336Z
SUMMARY:Otter.ai Technology Workshop
LOCATION:DSPS Office
URL;VALUE=URI:https://www.frc.edu/studentlife/calendar/7609193/otter-ai-tec
 hnology-workshop
DTSTART:20250312T190000Z
DTEND:20250312T200000Z
END:VEVENT
END:VCALENDAR
