BEGIN:VCALENDAR
VERSION:2.0
PRODID:SchoolNow
CALSCALE:GREGORIAN
BEGIN:VEVENT
UID:d36bd804-f886-11ef-a528-0afff4a38cbf
DTSTAMP:20250303T232542Z
SUMMARY:Art Reception (photography)
LOCATION:FRC Art Studio
URL;VALUE=URI:https://www.frc.edu/studentlife/calendar/7594641/art-receptio
 n-photography
DTSTART:20250306T010000Z
DTEND:20250306T020000Z
END:VEVENT
END:VCALENDAR
