BEGIN:VCALENDAR
VERSION:2.0
PRODID:SchoolNow
CALSCALE:GREGORIAN
BEGIN:VEVENT
UID:6198723c-f561-11ef-81ca-0e5cd817ab23
DTSTAMP:20250306T225613Z
SUMMARY:Read Across America Week
LOCATION:FRC Campus
URL;VALUE=URI:https://www.frc.edu/studentlife/calendar/7564083/read-across-
 america-week
DTSTART:20250303T160000Z
DTEND:20250306T210000Z
ATTACH;FILENAME=Read Across America Day.png;FMTTYPE=image/png:https://campu
 ssuite-storage.s3.amazonaws.com/prod/1558523/0672826e-a84b-11e7-9779-0ae3e
 1d9783c/2920750/8e8dd4fe-f560-11ef-9421-0a58a9feac02/file/Read Across Amer
 ica Day.png
END:VEVENT
END:VCALENDAR
