BEGIN:VCALENDAR
VERSION:2.0
PRODID:SchoolNow
CALSCALE:GREGORIAN
BEGIN:VEVENT
UID:76264f78-f55f-11ef-9bc0-0affe8550ecd
DTSTAMP:20250310T224745Z
SUMMARY:3v3 March Madness Basketball Tourney
LOCATION:FRC Gym
URL;VALUE=URI:https://www.frc.edu/studentlife/calendar/7564082/3v3-march-ma
 dness-basketball-tourney
DTSTART:20250312T010000Z
DTEND:20250312T030000Z
END:VEVENT
END:VCALENDAR
