BEGIN:VCALENDAR
VERSION:2.0
PRODID:SchoolNow
CALSCALE:GREGORIAN
BEGIN:VEVENT
UID:4d4aaeae-f39e-11ef-9b9b-0a58a9feac02
DTSTAMP:20250225T180757Z
SUMMARY:Playoff Men's Basketball Game (White Out)
LOCATION:FRC Gymnasium
URL;VALUE=URI:https://www.frc.edu/studentlife/calendar/7546402/playoff-bask
 etball-game-white-out
DTSTART:20250227T030000Z
DTEND:20250227T043000Z
END:VEVENT
END:VCALENDAR
