BEGIN:VCALENDAR
VERSION:2.0
PRODID:SchoolNow
CALSCALE:GREGORIAN
BEGIN:VEVENT
UID:2a0be5fa-f07b-11ef-a59f-0affe93c3dbb
DTSTAMP:20250221T174504Z
SUMMARY:Mardi Gras Masquerade Ball
LOCATION:Student Lounge
URL;VALUE=URI:https://www.frc.edu/studentlife/calendar/7518091/mardi-gras-m
 asquerade-ball
DTSTART:20250305T013000Z
DTEND:20250305T033000Z
ATTACH;FILENAME=Masquerade Ball.png;FMTTYPE=image/png:https://campussuite-s
 torage.s3.amazonaws.com/prod/1558523/0672826e-a84b-11e7-9779-0ae3e1d9783c/
 2918093/898393de-f07b-11ef-8e55-0a58a9feac02/file/Masquerade Ball.png
END:VEVENT
END:VCALENDAR
