BEGIN:VCALENDAR
VERSION:2.0
PRODID:SchoolNow
CALSCALE:GREGORIAN
BEGIN:VEVENT
UID:8aee1568-ee51-11ef-8689-0a58a9feac02
DTSTAMP:20250326T233211Z
SUMMARY:Free Movie Night - The Six Triple Eight
LOCATION:Town Hall Theater
URL;VALUE=URI:https://www.frc.edu/studentlife/calendar/7496355/free-movie-n
 ight-the-six-triple-eight
DTSTART:20250328T010000Z
DTEND:20250328T030000Z
ATTACH;FILENAME=Movie-Flyer_SP25_Six-Triple-Eight_FINAL_updated.jpg;FMTTYPE
 =image/jpeg:https://campussuite-storage.s3.amazonaws.com/prod/1558523/0672
 826e-a84b-11e7-9779-0ae3e1d9783c/2928533/509398ca-0382-11f0-8ff4-0a58a9fea
 c02/file/Movie-Flyer_SP25_Six-Triple-Eight_FINAL_updated.jpg
END:VEVENT
END:VCALENDAR
