BEGIN:VCALENDAR
VERSION:2.0
PRODID:SchoolNow
CALSCALE:GREGORIAN
BEGIN:VEVENT
UID:86c43eda-ee2f-11ef-a766-0267c79b301d
DTSTAMP:20250219T003559Z
SUMMARY:Men's Basketball vs. Butte (Blackout Game)
LOCATION:FRC Gymnasium
URL;VALUE=URI:https://www.frc.edu/studentlife/calendar/7494100/mens-basketb
 all-vs-butte-blackout-game
DTSTART:20250220T010000Z
DTEND:20250220T030000Z
END:VEVENT
END:VCALENDAR
