BEGIN:VCALENDAR
VERSION:2.0
PRODID:SchoolNow
CALSCALE:GREGORIAN
BEGIN:VEVENT
UID:ba53b6f2-e968-11ef-bee2-0a58a9feac02
DTSTAMP:20250212T174228Z
SUMMARY:Cambium Submission Deadline
LOCATION:Online
URL;VALUE=URI:https://www.frc.edu/studentlife/calendar/7458599/cambium-subm
 ission-deadline
DTSTART:20250301T010000Z
DTEND:20250301T020000Z
END:VEVENT
END:VCALENDAR
