BEGIN:VCALENDAR
VERSION:2.0
PRODID:SchoolNow
CALSCALE:GREGORIAN
BEGIN:VEVENT
UID:cf4d906e-e8b4-11ef-9f59-0a58a9feac02
DTSTAMP:20250211T201434Z
SUMMARY:Open Mic Night
LOCATION:Art Studio (FRC campus)
URL;VALUE=URI:https://www.frc.edu/studentlife/calendar/7454847/open-mic-nig
 ht
DTSTART:20250222T020000Z
DTEND:20250222T040000Z
ATTACH;FILENAME=Open Mic Night Flyer Feb 2025 (1).png;FMTTYPE=image/png:htt
 ps://campussuite-storage.s3.amazonaws.com/prod/1558523/0672826e-a84b-11e7-
 9779-0ae3e1d9783c/2914217/b38c7dc2-e8b4-11ef-8b44-02c115a192b7/file/Open M
 ic Night Flyer Feb 2025 (1).png
END:VEVENT
END:VCALENDAR
